BEGIN:VCALENDAR
VERSION:2.0
PRODID:-//wp-events-plugin.com//7.2.3.1//EN
TZID:Europe/Berlin
X-WR-TIMEZONE:Europe/Berlin
BEGIN:VEVENT
UID:85@uwg-jesteburg.de
DTSTART;TZID=Europe/Berlin:20260204T190000
DTEND;TZID=Europe/Berlin:20260204T190000
DTSTAMP:20260201T111615Z
URL:https://www.uwg-jesteburg.de/events/bau-und-planung-fachausschuss-geme
 inde-jesteburg-10/
SUMMARY:Bau und Planung (Fachausschuss Gemeinde Jesteburg)
DESCRIPTION:Öffentliche Sitzung\n\nDie detaillierte Tagesordnung der Tages
 ordnungspunkte\, die öffentlich beraten werden\, finden Sie hier.\n\n&nbs
 p\;
CATEGORIES:Bau und Planung,Gemeinde Jesteburg
LOCATION:Schützenhaus\, Am Alten Moor 10\, Jesteburg\, Niedersachsen\, 212
 66\, Deutschland
X-APPLE-STRUCTURED-LOCATION;VALUE=URI;X-ADDRESS=Am Alten Moor 10\, Jestebur
 g\, Niedersachsen\, 21266\, Deutschland;X-APPLE-RADIUS=100;X-TITLE=Schütz
 enhaus:geo:0,0
END:VEVENT
BEGIN:VTIMEZONE
TZID:Europe/Berlin
X-LIC-LOCATION:Europe/Berlin
BEGIN:STANDARD
DTSTART:20251026T020000
TZOFFSETFROM:+0200
TZOFFSETTO:+0100
TZNAME:CET
END:STANDARD
END:VTIMEZONE
END:VCALENDAR