BEGIN:VCALENDAR
VERSION:2.0
PRODID:-//wp-events-plugin.com//7.2.3.1//EN
TZID:Europe/Berlin
X-WR-TIMEZONE:Europe/Berlin
BEGIN:VEVENT
UID:120@uwg-jesteburg.de
DTSTART;TZID=Europe/Berlin:20260415T193000
DTEND;TZID=Europe/Berlin:20260415T193000
DTSTAMP:20260406T082436Z
URL:https://www.uwg-jesteburg.de/events/gemeinderat-gemeinde-jesteburg-11/
SUMMARY:Gemeinderat (Gemeinde Jesteburg)
DESCRIPTION:Öffentliche Sitzung\n\nDen öffentlichen Teil der detaillierte
 n Tagesordnung finden Sie hier.
CATEGORIES:Gemeinde Jesteburg,Ratsssitzung
LOCATION:Schützenhaus\, Am Alten Moor 10\, Jesteburg\, Niedersachsen\, 212
 66\, Deutschland
X-APPLE-STRUCTURED-LOCATION;VALUE=URI;X-ADDRESS=Am Alten Moor 10\, Jestebur
 g\, Niedersachsen\, 21266\, Deutschland;X-APPLE-RADIUS=100;X-TITLE=Schütz
 enhaus:geo:0,0
END:VEVENT
BEGIN:VTIMEZONE
TZID:Europe/Berlin
X-LIC-LOCATION:Europe/Berlin
BEGIN:DAYLIGHT
DTSTART:20260329T030000
TZOFFSETFROM:+0100
TZOFFSETTO:+0200
TZNAME:CEST
END:DAYLIGHT
END:VTIMEZONE
END:VCALENDAR