BEGIN:VCALENDAR
VERSION:2.0
PRODID:-//wp-events-plugin.com//7.2.3.1//EN
TZID:Europe/Berlin
X-WR-TIMEZONE:Europe/Berlin
BEGIN:VEVENT
UID:62@uwg-jesteburg.de
DTSTART;TZID=Europe/Berlin:20250430T190000
DTEND;TZID=Europe/Berlin:20250430T190000
DTSTAMP:20250418T162454Z
URL:https://www.uwg-jesteburg.de/events/strassen-wege-und-umwelt-fachaussc
 huss-gemeinde-jesteburg-2/
SUMMARY:Straßen\, Wege und Umwelt (Fachausschuss Gemeinde Jesteburg)
DESCRIPTION:Öffentliche Sitzung\n\n&nbsp\;\n\nDie detaillierte Tagesordnun
 g finden Sie hier.
CATEGORIES:Straßen, Wege und Umwelt
LOCATION:Heimathaus\, Niedersachsenplatz\, Jesteburg\, Niedersachsen\, 2126
 6\, Deutschland
X-APPLE-STRUCTURED-LOCATION;VALUE=URI;X-ADDRESS=Niedersachsenplatz\, Jesteb
 urg\, Niedersachsen\, 21266\, Deutschland;X-APPLE-RADIUS=100;X-TITLE=Heima
 thaus:geo:0,0
END:VEVENT
BEGIN:VTIMEZONE
TZID:Europe/Berlin
X-LIC-LOCATION:Europe/Berlin
BEGIN:DAYLIGHT
DTSTART:20250330T030000
TZOFFSETFROM:+0100
TZOFFSETTO:+0200
TZNAME:CEST
END:DAYLIGHT
END:VTIMEZONE
END:VCALENDAR