BEGIN:VCALENDAR
VERSION:2.0
PRODID:-//wp-events-plugin.com//7.2.3.1//EN
TZID:Europe/Berlin
X-WR-TIMEZONE:Europe/Berlin
BEGIN:VEVENT
UID:69@uwg-jesteburg.de
DTSTART;TZID=Europe/Berlin:20250515T190000
DTEND;TZID=Europe/Berlin:20250515T190000
DTSTAMP:20250505T141114Z
URL:https://www.uwg-jesteburg.de/events/strassen-wege-und-umwelt-fachaussc
 huss-gemeinde-jesteburg-3/
SUMMARY:Straßen\, Wege und Umwelt (Fachausschuss Gemeinde Jesteburg)
DESCRIPTION:Öffentliche Sitzung\n\nFortsetzung der öffentlichen Sitzung v
 om 30.04.2025\n\n&nbsp\;\n\nDie detaillierte Tagesordnung finden Sie hier.
CATEGORIES:Straßen, Wege und Umwelt
LOCATION:Schützenhaus\, Am Alten Moor 10\, Jesteburg\, Niedersachsen\, 212
 66\, Deutschland
X-APPLE-STRUCTURED-LOCATION;VALUE=URI;X-ADDRESS=Am Alten Moor 10\, Jestebur
 g\, Niedersachsen\, 21266\, Deutschland;X-APPLE-RADIUS=100;X-TITLE=Schütz
 enhaus:geo:0,0
END:VEVENT
BEGIN:VTIMEZONE
TZID:Europe/Berlin
X-LIC-LOCATION:Europe/Berlin
BEGIN:DAYLIGHT
DTSTART:20250330T030000
TZOFFSETFROM:+0100
TZOFFSETTO:+0200
TZNAME:CEST
END:DAYLIGHT
END:VTIMEZONE
END:VCALENDAR