BEGIN:VCALENDAR
VERSION:2.0
PRODID:-//wp-events-plugin.com//7.2.3.1//EN
TZID:Europe/Berlin
X-WR-TIMEZONE:Europe/Berlin
BEGIN:VEVENT
UID:11@uwg-jesteburg.de
DTSTART;TZID=Europe/Berlin:20241030T190000
DTEND;TZID=Europe/Berlin:20241030T190000
DTSTAMP:20241017T151602Z
URL:https://www.uwg-jesteburg.de/events/strassen-wege-und-umwelt-fachaussc
 huss-gemeinde-jesteburg/
SUMMARY:Straßen\, Wege und Umwelt (Fachausschuss Gemeinde Jesteburg)
DESCRIPTION:Öffentliche Sitzung\n\nDie detaillierte Tagesordnung finden Si
 e hier.
CATEGORIES:Straßen, Wege und Umwelt
LOCATION:Heimathaus\, Niedersachsenplatz\, Jesteburg\, Niedersachsen\, 2126
 6\, Deutschland
X-APPLE-STRUCTURED-LOCATION;VALUE=URI;X-ADDRESS=Niedersachsenplatz\, Jesteb
 urg\, Niedersachsen\, 21266\, Deutschland;X-APPLE-RADIUS=100;X-TITLE=Heima
 thaus:geo:0,0
END:VEVENT
BEGIN:VTIMEZONE
TZID:Europe/Berlin
X-LIC-LOCATION:Europe/Berlin
BEGIN:STANDARD
DTSTART:20241027T020000
TZOFFSETFROM:+0200
TZOFFSETTO:+0100
TZNAME:CET
END:STANDARD
END:VTIMEZONE
END:VCALENDAR