BEGIN:VCALENDAR
VERSION:2.0
PRODID:-//wp-events-plugin.com//7.2.3.1//EN
TZID:Europe/Berlin
X-WR-TIMEZONE:Europe/Berlin
BEGIN:VEVENT
UID:22@uwg-jesteburg.de
DTSTART;TZID=Europe/Berlin:20241114T190000
DTEND;TZID=Europe/Berlin:20241114T190000
DTSTAMP:20241030T165059Z
URL:https://www.uwg-jesteburg.de/events/wirtschaft-tourismus-kultur-und-fr
 iedhofswesem-samtgemeinde-jesteburg/
SUMMARY:Wirtschaft\, Tourismus\, Kultur und Friedhofswesem (Samtgemeinde Je
 steburg)
DESCRIPTION:Öffentliche Sitzung\n\nThemenschwerpunkte:\n\n 	Friedhoferweit
 erungsfläche  - Weitere Nutzung\n 	Hauhshalt 2025\n\n&nbsp\;\n\nDie ausf
 ührliche Tagesordnung finden Sie hier.
CATEGORIES:Wirtschaft, Tourismus, Kultur und Friedhofswesen
LOCATION:Schützenhaus\, Am Alten Moor 10\, Jesteburg\, Niedersachsen\, 212
 66\, Deutschland
X-APPLE-STRUCTURED-LOCATION;VALUE=URI;X-ADDRESS=Am Alten Moor 10\, Jestebur
 g\, Niedersachsen\, 21266\, Deutschland;X-APPLE-RADIUS=100;X-TITLE=Schütz
 enhaus:geo:0,0
END:VEVENT
BEGIN:VTIMEZONE
TZID:Europe/Berlin
X-LIC-LOCATION:Europe/Berlin
BEGIN:STANDARD
DTSTART:20241027T020000
TZOFFSETFROM:+0200
TZOFFSETTO:+0100
TZNAME:CET
END:STANDARD
END:VTIMEZONE
END:VCALENDAR